BEGIN:VCALENDAR
VERSION:2.0
PRODID:-//Downton Parish Council - ECPv6.15.17.1//NONSGML v1.0//EN
CALSCALE:GREGORIAN
METHOD:PUBLISH
X-WR-CALNAME:Downton Parish Council
X-ORIGINAL-URL:https://downtonparishcouncil.gov.uk
X-WR-CALDESC:Events for Downton Parish Council
REFRESH-INTERVAL;VALUE=DURATION:PT1H
X-Robots-Tag:noindex
X-PUBLISHED-TTL:PT1H
BEGIN:VTIMEZONE
TZID:Europe/London
BEGIN:DAYLIGHT
TZOFFSETFROM:+0000
TZOFFSETTO:+0100
TZNAME:BST
DTSTART:20240331T010000
END:DAYLIGHT
BEGIN:STANDARD
TZOFFSETFROM:+0100
TZOFFSETTO:+0000
TZNAME:GMT
DTSTART:20241027T010000
END:STANDARD
BEGIN:DAYLIGHT
TZOFFSETFROM:+0000
TZOFFSETTO:+0100
TZNAME:BST
DTSTART:20250330T010000
END:DAYLIGHT
BEGIN:STANDARD
TZOFFSETFROM:+0100
TZOFFSETTO:+0000
TZNAME:GMT
DTSTART:20251026T010000
END:STANDARD
BEGIN:DAYLIGHT
TZOFFSETFROM:+0000
TZOFFSETTO:+0100
TZNAME:BST
DTSTART:20260329T010000
END:DAYLIGHT
BEGIN:STANDARD
TZOFFSETFROM:+0100
TZOFFSETTO:+0000
TZNAME:GMT
DTSTART:20261025T010000
END:STANDARD
END:VTIMEZONE
BEGIN:VEVENT
DTSTART;TZID=Europe/London:20250714T190000
DTEND;TZID=Europe/London:20250714T190000
DTSTAMP:20260422T231333
CREATED:20250709T115959Z
LAST-MODIFIED:20250807T150720Z
UID:9700-1752519600-1752519600@downtonparishcouncil.gov.uk
SUMMARY:Parish Council Meeting
DESCRIPTION:This meeting will be held at the Memorial Centre. Members of the public are welcome to attend.
URL:https://downtonparishcouncil.gov.uk/event/9700
LOCATION:Memorial Centre
CATEGORIES:Parish Council Meetings
ATTACH;FMTTYPE=image/jpeg:https://downtonparishcouncil.gov.uk/wp-content/uploads/2024/12/dpc-default-fi.jpg
END:VEVENT
END:VCALENDAR